BEGIN:VCALENDAR
VERSION:2.0
PRODID:-//Breukvlakken - ECPv6.15.20//NONSGML v1.0//EN
CALSCALE:GREGORIAN
METHOD:PUBLISH
X-WR-CALNAME:Breukvlakken
X-ORIGINAL-URL:https://breukvlakken.nl
X-WR-CALDESC:Evenementen voor Breukvlakken
REFRESH-INTERVAL;VALUE=DURATION:PT1H
X-Robots-Tag:noindex
X-PUBLISHED-TTL:PT1H
BEGIN:VTIMEZONE
TZID:Europe/Amsterdam
BEGIN:DAYLIGHT
TZOFFSETFROM:+0100
TZOFFSETTO:+0200
TZNAME:CEST
DTSTART:20210328T010000
END:DAYLIGHT
BEGIN:STANDARD
TZOFFSETFROM:+0200
TZOFFSETTO:+0100
TZNAME:CET
DTSTART:20211031T010000
END:STANDARD
BEGIN:DAYLIGHT
TZOFFSETFROM:+0100
TZOFFSETTO:+0200
TZNAME:CEST
DTSTART:20220327T010000
END:DAYLIGHT
BEGIN:STANDARD
TZOFFSETFROM:+0200
TZOFFSETTO:+0100
TZNAME:CET
DTSTART:20221030T010000
END:STANDARD
BEGIN:DAYLIGHT
TZOFFSETFROM:+0100
TZOFFSETTO:+0200
TZNAME:CEST
DTSTART:20230326T010000
END:DAYLIGHT
BEGIN:STANDARD
TZOFFSETFROM:+0200
TZOFFSETTO:+0100
TZNAME:CET
DTSTART:20231029T010000
END:STANDARD
END:VTIMEZONE
BEGIN:VEVENT
DTSTART;TZID=Europe/Amsterdam:20221201T200000
DTEND;TZID=Europe/Amsterdam:20221201T220000
DTSTAMP:20260425T190037
CREATED:20221103T131115Z
LAST-MODIFIED:20221114T090603Z
UID:5494-1669924800-1669932000@breukvlakken.nl
SUMMARY:Thema-avond: Ingehouden Woede en Schaamte
DESCRIPTION:De Stichting Breukvlakken organiseert in nauwe samenwerking met Stichting Perdu\, vier  avonden rond het thema ‘woede’. Wat is de bron van de toenemende ‘woede’ die we om ons heen zien\, hoe wordt die ‘woede’ gereguleerd en gekanaliseerd. Hoe kunnen we ervoor zorgen dat we die ‘woede’ op een creatieve manier leren beheersen.  \nMet deskundigen\, de psychoanalyse en de poëzie gaan we de ‘woede’ te lijf. Vier avonden over woedende vrouwen\, boze boeren\, kwade geesten\, woeste mannen en gewetenloze ambtenaren.  \nElke avond opent met een speciaal voor de gelegenheid geschreven gedicht waarna een tweetal deskundigen het thema van de avond verder zullen toelichten. Aan het eind van de avond is er ruimte voor een gesprek tussen dichter en sprekers en vragen uit het publiek.  \nDe vier donderdagavonden vinden plaats in Perdu en zullen tegelijkertijd via een livestream te volgen zijn. Het programma duurt van 20.00 tot 22.00 uur. \nDe Stichting Breukvlakken stelt zich ten doel het Freudiaanse gedachtegoed levend te houden. De noties van conflicterende gevoelens\, bewust en onbewust\, de seksuele en agressieve driften\, de wensen en de verlangens\, zijn onmisbaar voor een zinnige duiding van maatschappelijke conflicten en onbehagen. De psychoanalyse biedt een begrippenapparaat en een zienswijze op de mens\, die aan wetenschappelijke relevantie niets heeft ingeboet.  \nStichting Perdu  staat voor het stimuleren en onder de aandacht brengen van bijzondere literatuur\, en het onderzoeken van de relaties tussen die literatuur\, andere disciplines\, en culturele en maatschappelijke ontwikkelingen. (www.perdu.nl) \n  \nEEN SERIE VAN VIER PROGRAMMA’S \nDownload de flyer met het overzicht van de volledige reeks over Woede. \n  \n1 – Donderdag 1 december 2022  \nIngehouden Woede en Schaamte \n  \nWaar: \nLiterair Theater Perdu\, Kloveniersburgwal 86\, 1012 CZ Amsterdam \n \n  \nHoe laat: \nDe avonden beginnen om 20.00 uur en eindigen 22.00 uur\, de bar is open tot 23.00 uur  \nAlle avonden zijn per livestream te volgen waarbij u betaalt voor een link. \nDe link ontvangt u twee uur voor aanvang van het programma. \n  \nKaartverkoop voor aanwezigheid of livestream: \nStichting Perdu \n  \nPrijzen:  \nNormaal € 12\,50  per avond  Passepartout voor 4 avonden €45\,00 \nStudenten\, Stadspas en 65+ € 10\,00 per avond   Passepartout voor 4 avonden €37\,50 \nLivestream € 8\,00 per avond     Passepartout voor 4 avonden €30\,00 \n  \nPROGRAMMA DONDERDAG 1 DECEMBER 2022 \nModerator: Koen Hilberdink \nSprekers:\nKaren Lachmising | dichter  \nNelleke Nicolai | psychiater en psychotherapeut \nVormt het seksistische en racistische patriarchaat nog steeds een belangrijke bron voor voortwoekerende woede. Hoe is het mogelijk dat het recht op abortus opnieuw ter discussie staat in Amerika. Zijn we er werkelijk op vooruitgegaan of zijn we alweer op de weg terug? Vrouwen zijn nog steeds slachtoffer van vele seksistische handelingen\, vrouwen worden vermoord door mannen en mannen doden elkaar. Vrouwen slikken tot ze stikken. Ingehouden woede uit zich in klachten van zowel fysieke als mentale aard of komt in onverwachte vormen op onverwachte momenten naar buiten.  \nDr. Nelleke Nicolai (1947)\, psychiater (niet-praktiserend) en psychotherapeut heeft sinds eind 1977 patiënten behandeld met een voorgeschiedenis van seksueel misbruik en mishandeling en daarover veel gepubliceerd. Zij zal een beeld schetsen van de enorme hoeveelheid ingehouden woede en schaamte die een belangrijk deel van ons samenleven bepaalt.   \nProf. Dr. Maaike Meijer | emeritus hoogleraar genderstudies \nMaaike Meijer onderzoekt verbeeldingen van mannelijkheid in bekende romans en films. Zij ziet mannenwoede daarin niet alleen getoond\, maar ook ontraadseld. Wat kan mannen brengen tot disproportioneel geweld? Is het doodsdrift\, dan wel een structureel onvermogen om verlies te nemen? Wat is het in de mannelijke socialisatie dat geweld zo moeilijk beheersbaar en aantrekkelijk maakt? Meijer leest een exemplarische roman en een film om de analyses te volgen die mannelijk auteurs zelf van dit probleem maken. Opmerkelijk genoeg wordt mannelijke agressie door hen vaak gepresenteerd als doodlopende weg. Mannen lijken ermee te willen kappen. En dat is goed nieuws. \nMaaike Meijer is emeritus hoogleraar genderstudies van de Universiteit van Maastricht. Zij is actief als schrijver\, onderzoeker en spreker. Naast tal van boeken en artikelen schreef zij biografieën van M. Vasalis (2011) en van F. Harmsen van Beek (2018). Haar deskundigheid ligt op het gebied van gender\, neerlandistiek\, poëzie en lied\, feminisme en cultuurgeschiedenis. Op stapel staat een boek over mannelijkheid in hedendaagse literatuur en film\, getiteld ‘Radeloze mannen’ dat bij uitgeverij Atlas Contact zal verschijnen. \n  \nEEN SERIE VAN VIER PROGRAMMA’S \nDownload de flyer met het overzicht van de volledige reeks over Woede. \n 
URL:https://breukvlakken.nl/evenement/ingehouden-woede-en-schaamte/
LOCATION:Perdu\, Kloveniersburgwal 86\, Amsterdam\, 1012 CZ
CATEGORIES:Lezingen
ATTACH;FMTTYPE=image/png:https://breukvlakken.nl/wp-content/uploads/2022/11/woede-green.png
END:VEVENT
BEGIN:VEVENT
DTSTART;TZID=Europe/Amsterdam:20221208T193000
DTEND;TZID=Europe/Amsterdam:20221208T220000
DTSTAMP:20260425T190037
CREATED:20220919T153508Z
LAST-MODIFIED:20230213T135744Z
UID:5170-1670527800-1670536800@breukvlakken.nl
SUMMARY:Biografieën Project: Hans van Mierlo\, een wonderbaarlijk politicus
DESCRIPTION:Breukvlakken Biografieën Project Perdu\nSeizoen 2022 – 2023\nBijeenkomst donderdag 8 december 2022: \nDe Stichting Breukvlakken\, i.s.m. de Stichting Psychoanalyse en Cultuur\, organiseert op 8 december 2022 de tweede avond in het nieuwe seizoen van de succesvolle reeks DE BIOGRAFIE IN PSYCHOANALYSE. \nIn Literair Theater Perdu in Amsterdam zal vanaf 20 uur Hubert Smeets spreken over zijn biografie Hans van Mierlo\, een wonderbaarlijk politicus (Uitgeverij De Bezige Bij\, 2021). \nHans van Mierlo – de onzekere jongen uit een Brabantse patriciërsfamilie – kwam laat tot bloei. Pas toen hij na een moeizame rechtenstudie in het katholieke Nijmegen op 29-jarige leeftijd in Amsterdam ging wonen\, vond hij\, meevarend op de golf van veranderingen in de jaren zestig\, zijn plek: eerst als journalist en vanaf 1966 als partijleider van D66. Van Mierlo stond aan de wieg van twee van de bijzonderste regeringen van de twintigste eeuw: het progressieve kabinet-Den Uyl (1973-1977) en de paarse kabinetten-Kok (1994-2002). De belofte van een nieuw bestel wist hij nooit in te lossen. Staatkundige hervormingen kwamen niet van de grond. Het ideaal van één progressieve volkspartij werd een desillusie. Maar al die jaren bleef de ongedisciplineerde libertijn met zijn intellectuele uitstraling de politieke tolk van Nederlanders die streefden naar individuele vrijheid in een sociale rechtsstaat. Journalist en historicus Hubert Smeets\, die als eerste Van Mierlo’s privéarchieven mocht inzien\, laat zien hoe politiek voor de twijfelaar Van Mierlo een intellectuele levenshouding was\, geen kille machtsstrijd – al was hij niet vies van de macht. Een wonderbaarlijk politicus is het portret van een zoeker en een tobber\, van een politicus die geen politicus was\, maar Nederland wel vormgaf. \nVan 20:00 tot 21:30 wordt de biografie van Hans van Mierlo besproken door biograaf Hubert Smeets. Rolien van Mechelen reageert daar vervolgens op vanuit een psychoanalytische invalshoek. Met moderator Maaike Meijer worden de nieuwe inzichten geanalyseerd. \n  \nAccreditatiepunten \nDe FGZPT heeft per biografie-avond 1 accreditatiepunt toegekend. \n  \nWaar:\nLiterair Theater Perdu\, Kloveniersburgwal 86\, 1012 CZ Amsterdam \n \nHoe laat:\nInloop vanaf 19.30\nPresentaties en nagesprek van 20:00 tot 21.30 \nKaartverkoop voor aanwezigheid of livestream:\nStichting Perdu \n  \nBestel Kaarten\n  \nBiografieën Project in Perdu\nWat:\nEen jaarlijks terugkerende serie avonden over biografieën\, de corebusiness van de psychoanalyse. \nThema:\nHet thema wordt ieder jaar opnieuw bepaald en sluit aan bij het jaarthema van Breukvlakken. \nWat kunt u verwachten:\nTijdens de avonden wordt een biografie gepresenteerd door de schrijver/ster\, een psychoanalytische voordracht over de biografie of de geportretteerde gehouden waarna biograaf en psychoanalyticus met elkaar in gesprek gaan. \nDownload de FLYER met het uitgebreide overzicht van de gehele serie hier. \n  \nSeizoen 2022 – 2023\n\n13 oktober 2022\nBiograaf Lieneke Frerichs over het leven en werk van J.H.F. Grönloh\, alias Nescio\n8 december 2022\nBiograaf Hubert Smeets over het leven van politicus Hans van Mierlo\n2 maart 2023\nBiograaf Mirjam van Hengel over het leven en werk van Dola de Jong\n20 april 2023\nBiograaf Aleid Truyens over het leven en werk van Hella S. Haasse\n\n  \n  \nDeze serie wordt georganiseerd door de Stichting Breukvlakken in samenwerking met de Stichting Psychoanalyse en Cultuur. \n \nFoto bovenaan: Hans van Mierlo in 1981. (© Nationaal Archief\, CC0 / Anefo) \n 
URL:https://breukvlakken.nl/evenement/biografieen-project-hans-van-mierlo-een-wonderbaarlijk-politicus/
LOCATION:Perdu\, Kloveniersburgwal 86\, Amsterdam\, 1012 CZ
CATEGORIES:Lezingen
ATTACH;FMTTYPE=image/jpeg:https://breukvlakken.nl/wp-content/uploads/2022/09/van-mierlo-anefo.jpg
END:VEVENT
BEGIN:VEVENT
DTSTART;TZID=Europe/Amsterdam:20221215T200000
DTEND;TZID=Europe/Amsterdam:20221215T220000
DTSTAMP:20260425T190037
CREATED:20221103T142653Z
LAST-MODIFIED:20221205T110555Z
UID:5513-1671134400-1671141600@breukvlakken.nl
SUMMARY:Thema-avond: Verbeelding als drijvende kracht achter driften
DESCRIPTION:De Stichting Breukvlakken organiseert in nauwe samenwerking met Stichting Perdu\, vier  avonden rond het thema ‘woede’. Wat is de bron van de toenemende ‘woede’ die we om ons heen zien\, hoe wordt die ‘woede’ gereguleerd en gekanaliseerd. Hoe kunnen we ervoor zorgen dat we die ‘woede’ op een creatieve manier leren beheersen.  \nMet deskundigen\, de psychoanalyse en de poëzie gaan we de ‘woede’ te lijf. Vier avonden over woedende vrouwen\, boze boeren\, kwade geesten\, woeste mannen en gewetenloze ambtenaren.  \nElke avond opent met een speciaal voor de gelegenheid geschreven gedicht waarna een tweetal deskundigen het thema van de avond verder zullen toelichten. Aan het eind van de avond is er ruimte voor een gesprek tussen dichter en sprekers en vragen uit het publiek.  \nDe vier donderdagavonden vinden plaats in Perdu en zullen tegelijkertijd via een livestream te volgen zijn. Het programma duurt van 20.00 tot 22.00 uur. \nDe Stichting Breukvlakken stelt zich ten doel het Freudiaanse gedachtegoed levend te houden. De noties van conflicterende gevoelens\, bewust en onbewust\, de seksuele en agressieve driften\, de wensen en de verlangens\, zijn onmisbaar voor een zinnige duiding van maatschappelijke conflicten en onbehagen. De psychoanalyse biedt een begrippenapparaat en een zienswijze op de mens\, die aan wetenschappelijke relevantie niets heeft ingeboet.  \nStichting Perdu  staat voor het stimuleren en onder de aandacht brengen van bijzondere literatuur\, en het onderzoeken van de relaties tussen die literatuur\, andere disciplines\, en culturele en maatschappelijke ontwikkelingen. (www.perdu.nl) \n  \nEEN SERIE VAN VIER PROGRAMMA’S \nDownload de flyer met het overzicht van de volledige reeks over Woede. \n  \n2 – Donderdag 15 december 2022  \nVerbeelding – mensen verlangen naar iets dat ze zelf niet hebben bedacht\n  \nWaar: \nLiterair Theater Perdu\, Kloveniersburgwal 86\, 1012 CZ Amsterdam \n \n  \nHoe laat: \nDe avonden beginnen om 20.00 uur en eindigen 22.00 uur\, de bar is open tot 23.00 uur  \nAlle avonden zijn per livestream te volgen waarbij u betaalt voor een link. \nDe link ontvangt u twee uur voor aanvang van het programma. \n  \nKaartverkoop voor aanwezigheid of livestream: \nStichting Perdu \n  \nPrijzen:  \nNormaal € 12\,50  per avond  Passepartout voor 4 avonden €45\,00 \nStudenten\, Stadspas en 65+ € 10\,00 per avond   Passepartout voor 4 avonden €37\,50 \nLivestream € 8\,00 per avond     Passepartout voor 4 avonden €30\,00 \n  \nGebarentolken:  \nVoor het eerst presenteren Breukvlakken en Perdu op 15 december een programma met de ondersteuning van gebarentolken. Indien je een kaartje hebt gereserveerd en je hier gebruik van wilt maken\, stuur dan een mail naar Rob Sander (rob@perdu.nl)\, medewerker diversiteit & inclusie\, zodat we je een plaats in de zichtlijn van de gebarentolken kunnen garanderen. \n  \nPROGRAMMA DONDERDAG 15 DECEMBER 2022 \nModerator: Christien Brinkgreve \nSprekers:\nSarah de Koning | dichter  \nMarc de Kesel  | bijzonder hoogleraar ‘Theologie\, mystiek & moderniteit’ \nMarc de Kesel doet vanuit filosofisch perspectief  aan onderzoek in domeinen als religie- en mystiektheorie\, holocaustreceptie\, lacaniaanse theorie en kunst- & cultuurkritiek. \nFreud scheidt de doodsdrift\, de destructie en een erotische agressie. Woede is een krachtige emotie\, die vernietigend kan zijn en opbouwend.  \nIn de psychoanalyse gaat het niet enkel over verdrongen seksuele driften. Het gaat er vooral over dat seksualiteit en drift – en het hele bestaan – op verbeelding drijven. Dat ons driftige Ik ons maar al te vaak meesleurt in tomeloze fantasie\, is maar één facet dat door deze theorie wordt belicht. Een ander is dat ook dit ‘Ik’ zelf zijn grond heeft in een onbewuste verbeelding die wij niet beheersen maar waardoor wij beheerst worden. Wat betekent dit in ons denken over ‘woede’?  Marc de Kesel neemt ons mee in zijn verbeelding. \nMarc de Kesel is bijzonder hoogleraar ‘Theologie\, mystiek & moderniteit’ aan de   faculteit Filosofie\, Theologie en religiewetenschappen alsook wetenschappelijk medewerker aan het Titus Brandsma Instituut\, Radboud Universiteit\, Nijmegen. \n  \nMartine Groen | klinisch psycholoog/psychotherapeut \nIn haar psychotherapeutische praktijk zag Martine Groen welke mechanismen werken bij de kanalisering van woede en schaamte. De theorie die ze daarover formuleerde baseerde ze op haar praktijkervaring en gaat vergezeld van reflecties op haar werkveld.  \nDe vervorming van woede kent vele metamorfoses en details\, die op elk niveau in families\, vriendenkringen en organisaties  een eigen kleur krijgen. De codes van die transformaties verschillen per cultuur en klasse. Zo bepalen racisme en seksisme in veel gevallen wat wel eervol is en wat niet. De waardering voor heldendaden en groepsdruk spelen een grote rol in uitsluiting van de Ander. \nDrs. Martine Groen is klinisch psycholoog/ psychotherapeut\, niet praktiserend. Zij heeft zich gespecialiseerd in gerumineerde familiesystemen. Zij werkte in de vrouwenhulpverlening en was tien jaar verbonden aan  de politie en brandweer. Ook werkte zij tien jaar in voormalig Joegoslavië. Haar laatste publicatie ‘Intieme Oorlog’ schreef ze samen met Justine van Lawick en kent inmiddels de achtste druk. \n  \nEEN SERIE VAN VIER PROGRAMMA’S \nDownload de flyer met het overzicht van de volledige reeks over Woede. \n 
URL:https://breukvlakken.nl/evenement/thema-avond-verbeelding-als-drijvende-kracht-achter-drift-en-sexualiteit/
LOCATION:Perdu\, Kloveniersburgwal 86\, Amsterdam\, 1012 CZ
CATEGORIES:Lezingen
ATTACH;FMTTYPE=image/png:https://breukvlakken.nl/wp-content/uploads/2022/11/woede-purple.png
END:VEVENT
END:VCALENDAR