BEGIN:VCALENDAR
VERSION:2.0
PRODID:-//Breukvlakken - ECPv6.15.20//NONSGML v1.0//EN
CALSCALE:GREGORIAN
METHOD:PUBLISH
X-WR-CALNAME:Breukvlakken
X-ORIGINAL-URL:https://breukvlakken.nl
X-WR-CALDESC:Evenementen voor Breukvlakken
REFRESH-INTERVAL;VALUE=DURATION:PT1H
X-Robots-Tag:noindex
X-PUBLISHED-TTL:PT1H
BEGIN:VTIMEZONE
TZID:Europe/Amsterdam
BEGIN:DAYLIGHT
TZOFFSETFROM:+0100
TZOFFSETTO:+0200
TZNAME:CEST
DTSTART:20220327T010000
END:DAYLIGHT
BEGIN:STANDARD
TZOFFSETFROM:+0200
TZOFFSETTO:+0100
TZNAME:CET
DTSTART:20221030T010000
END:STANDARD
BEGIN:DAYLIGHT
TZOFFSETFROM:+0100
TZOFFSETTO:+0200
TZNAME:CEST
DTSTART:20230326T010000
END:DAYLIGHT
BEGIN:STANDARD
TZOFFSETFROM:+0200
TZOFFSETTO:+0100
TZNAME:CET
DTSTART:20231029T010000
END:STANDARD
BEGIN:DAYLIGHT
TZOFFSETFROM:+0100
TZOFFSETTO:+0200
TZNAME:CEST
DTSTART:20240331T010000
END:DAYLIGHT
BEGIN:STANDARD
TZOFFSETFROM:+0200
TZOFFSETTO:+0100
TZNAME:CET
DTSTART:20241027T010000
END:STANDARD
END:VTIMEZONE
BEGIN:VEVENT
DTSTART;TZID=Europe/Amsterdam:20230119T200000
DTEND;TZID=Europe/Amsterdam:20230119T220000
DTSTAMP:20260425T173439
CREATED:20221103T155727Z
LAST-MODIFIED:20230108T164011Z
UID:5523-1674158400-1674165600@breukvlakken.nl
SUMMARY:Thema-avond: Falende overheid\, woede op rechts
DESCRIPTION:De Stichting Breukvlakken organiseert in nauwe samenwerking met Stichting Perdu\, vier  avonden rond het thema ‘woede’. Wat is de bron van de toenemende ‘woede’ die we om ons heen zien\, hoe wordt die ‘woede’ gereguleerd en gekanaliseerd. Hoe kunnen we ervoor zorgen dat we die ‘woede’ op een creatieve manier leren beheersen.  \nMet deskundigen\, de psychoanalyse en de poëzie gaan we de ‘woede’ te lijf. Vier avonden over woedende vrouwen\, boze boeren\, kwade geesten\, woeste mannen en gewetenloze ambtenaren.  \nElke avond opent met een speciaal voor de gelegenheid geschreven gedicht waarna een tweetal deskundigen het thema van de avond verder zullen toelichten. Aan het eind van de avond is er ruimte voor een gesprek tussen dichter en sprekers en vragen uit het publiek.  \nDe vier donderdagavonden vinden plaats in Perdu en zullen tegelijkertijd via een livestream te volgen zijn. Het programma duurt van 20.00 tot 22.00 uur. \nDe Stichting Breukvlakken stelt zich ten doel het Freudiaanse gedachtegoed levend te houden. De noties van conflicterende gevoelens\, bewust en onbewust\, de seksuele en agressieve driften\, de wensen en de verlangens\, zijn onmisbaar voor een zinnige duiding van maatschappelijke conflicten en onbehagen. De psychoanalyse biedt een begrippenapparaat en een zienswijze op de mens\, die aan wetenschappelijke relevantie niets heeft ingeboet.  \nStichting Perdu  staat voor het stimuleren en onder de aandacht brengen van bijzondere literatuur\, en het onderzoeken van de relaties tussen die literatuur\, andere disciplines\, en culturele en maatschappelijke ontwikkelingen. (www.perdu.nl) \n  \nEEN SERIE VAN VIER PROGRAMMA’S \nDownload de flyer met het overzicht van de volledige reeks over Woede. \n  \n3 – Donderdag 19 januari 2023  \nGeïnstitutionaliseerde woede en woede op rechts\n  \nWaar: \nLiterair Theater Perdu\, Kloveniersburgwal 86\, 1012 CZ Amsterdam \n \n  \nHoe laat: \nDe avonden beginnen om 20.00 uur en eindigen 22.00 uur\, de bar is open tot 23.00 uur  \nAlle avonden zijn per livestream te volgen waarbij u betaalt voor een link. \nDe link ontvangt u twee uur voor aanvang van het programma. \n  \nKaartverkoop voor aanwezigheid of livestream: \nStichting Perdu \n  \nPrijzen:  \nNormaal € 12\,50  per avond  Passepartout voor 4 avonden €45\,00 \nStudenten\, Stadspas en 65+ € 10\,00 per avond   Passepartout voor 4 avonden €37\,50 \nLivestream € 8\,00 per avond     Passepartout voor 4 avonden €30\,00 \n  \nPROGRAMMA DONDERDAG 19 JANUARI 2023 \nModerator: Martine Groen \nSprekers:\nIduna Paalman | dichter \nEllen Pasman | advocaat \n‘Wie een dergelijk proces heeft\, heeft het eigenlijk al verloren\,’ aldus de roman Het proces van Franz Kafka uit 1925. Dat gevoel hebben de ouders in de kinderopvangtoeslagaffaire een eeuw later ook ervaren aldus Ellen Pasman van wie in 2021 het boek Kafka in de rechtsstaat\, de toeslagenaffaire ontleed\, verscheen. \nWat er misging met de kinderopvangtoeslagen is geen toeval\, maar een symptoom van de jarenlange verwaarlozing van de rechtsstaat. Kafka een eeuw later: hoe politiek\, bestuur en de landsadvocaat de argeloze burger mangelden\, en de rechter dat pas na tien jaar doorhad. Was en is er sprake van geïnstitutionaliseerde woede binnen de overheid? En hoe om te gaan met de enorme woede die deze zaak losmaakte? \nEllen Pasman (1958) is sinds 1987 advocaat in Amsterdam. Zij stond Willem Oltmans bij in zijn zaak tegen de Nederlandse staat\, waarover ze in 2002 het boek Oud zeer publiceerde. \n  \nAbram de Swaan | emeritus hoogleraar sociologie \nDe Woede op rechts \nIn zijn boek ‘Tegen de vrouwen’ (2019) gaat Abram de Swaan in op de woede van  rechtsisten en jihadiasten over de emancipatie. \nIn de afgelopen halve eeuw is over de hele wereld het onderwijs op alle niveaus in razend tempo uitgebreid\, vooral voor meisjes en jonge vrouwen. Daarmee veranderden de man-vrouwverhoudingen navenant. Vrouwen trouwen later\, krijgen minder kinderen\, werken langer en verdienen meer. Die winst aan kennis\, inkomen en ook aan macht is voor veel mannen maar moeilijk te verkroppen. Vrouwen hebben mannen nu minder nodig als beschermer of als financieel toeverlaat. Volgens Abram de Swaan leidt deze ondermijning van de mannelijke overheersing tot maatschappelijke en psychische spanningen\, die te herleiden zijn tot de kwetsuur van het mannelijk eergevoel: een collectieve en persoonlijke ‘narcistische’ krenking. De Swaan ziet de opkomst van het nieuwe extreem rechts\, het christelijk fundamentalisme en het hardnekkige jihadisme als een reactie op de mondiale vrouwenemancipatie die voor zo veel mannen blijkbaar zo bedreigend is.  \nAbram de Swaan (1942) was van 1973 tot 2007 hoogleraar sociologie en sinds 2001 ook universiteitshoogleraar sociale wetenschap aan de Universiteit van Amsterdam. Hij was jarenlang columnist voor NRC Handelsblad en ontving in 2008 de P.C. Hooft-prijs voor zijn volledige oeuvre \n  \nEEN SERIE VAN VIER PROGRAMMA’S \nDownload de flyer met het overzicht van de volledige reeks over Woede. \n 
URL:https://breukvlakken.nl/evenement/thema-avond-falende-instituties-en-woede-op-rechts/
LOCATION:Perdu\, Kloveniersburgwal 86\, Amsterdam\, 1012 CZ
CATEGORIES:Lezingen
ATTACH;FMTTYPE=image/png:https://breukvlakken.nl/wp-content/uploads/2022/11/woede-turquoise.png
END:VEVENT
END:VCALENDAR