BEGIN:VCALENDAR
VERSION:2.0
PRODID:-//Breukvlakken - ECPv6.15.20//NONSGML v1.0//EN
CALSCALE:GREGORIAN
METHOD:PUBLISH
X-WR-CALNAME:Breukvlakken
X-ORIGINAL-URL:https://breukvlakken.nl
X-WR-CALDESC:Evenementen voor Breukvlakken
REFRESH-INTERVAL;VALUE=DURATION:PT1H
X-Robots-Tag:noindex
X-PUBLISHED-TTL:PT1H
BEGIN:VTIMEZONE
TZID:Europe/Amsterdam
BEGIN:DAYLIGHT
TZOFFSETFROM:+0100
TZOFFSETTO:+0200
TZNAME:CEST
DTSTART:20220327T010000
END:DAYLIGHT
BEGIN:STANDARD
TZOFFSETFROM:+0200
TZOFFSETTO:+0100
TZNAME:CET
DTSTART:20221030T010000
END:STANDARD
BEGIN:DAYLIGHT
TZOFFSETFROM:+0100
TZOFFSETTO:+0200
TZNAME:CEST
DTSTART:20230326T010000
END:DAYLIGHT
BEGIN:STANDARD
TZOFFSETFROM:+0200
TZOFFSETTO:+0100
TZNAME:CET
DTSTART:20231029T010000
END:STANDARD
BEGIN:DAYLIGHT
TZOFFSETFROM:+0100
TZOFFSETTO:+0200
TZNAME:CEST
DTSTART:20240331T010000
END:DAYLIGHT
BEGIN:STANDARD
TZOFFSETFROM:+0200
TZOFFSETTO:+0100
TZNAME:CET
DTSTART:20241027T010000
END:STANDARD
END:VTIMEZONE
BEGIN:VEVENT
DTSTART;TZID=Europe/Amsterdam:20230420T193000
DTEND;TZID=Europe/Amsterdam:20230420T220000
DTSTAMP:20260425T132405
CREATED:20220919T144602Z
LAST-MODIFIED:20230405T143934Z
UID:5164-1682019000-1682028000@breukvlakken.nl
SUMMARY:Biografieën Project: Leven in de verbeelding\, Hella S. Haasse
DESCRIPTION:Breukvlakken Biografieën Project Perdu\nSeizoen 2022 – 2023\nBijeenkomst donderdag 20 april 2023: \nDe Stichting Breukvlakken\, i.s.m. de Stichting Psychoanalyse en Cultuur\, organiseert op 20 april 2023 de vierde avond in het Seizoen 2022–2023 van de succesvolle reeks DE BIOGRAFIE IN PSYCHOANALYSE. \nIn Literair Theater Perdu in Amsterdam zal vanaf 20 uur Aleid Truyens spreken over haar biografie Leven in de verbeelding\, Hella S. Haasse\, 1918 – 2011 (Uitgeverij Querido 2022). \nAleid Truijens laat zien hoe sterk Haasse’s leven en werk verweven zijn. We zien hoe het meisje dat tot haar twintigste in voormalig Nederlands-Indië woonde\, zich ontwikkelde tot de grootste schrijfster uit ons taalgebied. Haasse mocht dan een zondagskind lijken\, zelf vond ze haar leven verre van gemakkelijk. Ze probeerde het conventionele leven te leiden dat van haar verwacht werd\, terwijl ze haar toevlucht zocht in haar verbeelding – alleen daar voelde ze zich thuis. \nVan 20:00 tot 21:30 wordt de biografie van Hella Haasse besproken door biograaf Aleid Truyens. Greet Kuipers reageert daar vervolgens op vanuit psychoanalytische invalshoek. Met moderator Koen Hilberdink worden de nieuwe inzichten geanalyseerd. \n  \nAccreditatiepunten \nDe FGZPT heeft per biografie-avond 1 accreditatiepunt toegekend. \n  \nWaar:\nLiterair Theater Perdu\, Kloveniersburgwal 86\, 1012 CZ Amsterdam \n \nHoe laat:\nInloop vanaf 19.30\nPresentaties en nagesprek van 20:00 tot 21.30 \nKaartverkoop voor aanwezigheid of livestream:\nStichting Perdu \n  \nBestel Kaarten\n  \nBiografieën Project in Perdu\nWat:\nEen jaarlijks terugkerende serie avonden over biografieën\, de corebusiness van de psychoanalyse. \nThema:\nHet thema wordt ieder jaar opnieuw bepaald en sluit aan bij het jaarthema van Breukvlakken. \nWat kunt u verwachten:\nTijdens de avonden wordt een biografie gepresenteerd door de schrijver/ster\, een psychoanalytische voordracht over de biografie of de geportretteerde gehouden waarna biograaf en psychoanalyticus met elkaar in gesprek gaan. \nDownload de FLYER met het uitgebreide overzicht van de gehele serie hier. \n  \nSeizoen 2022 – 2023\n\n13 oktober 2022\nBiograaf Lieneke Frerichs over het leven en werk van J.H.F. Grönloh\, alias Nescio\n8 december 2022\nBiograaf Hubert Smeets over het leven van politicus Hans van Mierlo\n2 maart 2023\nBiograaf Mirjam van Hengel over het leven en werk van Dola de Jong\n20 april 2023\nBiograaf Aleid Truyens over het leven en werk van Hella S. Haasse\n\n  \n  \nDeze serie wordt georganiseerd door de Stichting Breukvlakken in samenwerking met de Stichting Psychoanalyse en Cultuur. \n \n  \n 
URL:https://breukvlakken.nl/evenement/biografieen-project-leven-in-de-verbeelding-hella-s-haasse/
LOCATION:Perdu\, Kloveniersburgwal 86\, Amsterdam\, 1012 CZ
CATEGORIES:Lezingen
ATTACH;FMTTYPE=image/jpeg:https://breukvlakken.nl/wp-content/uploads/2022/09/hella-haasse.jpg
END:VEVENT
END:VCALENDAR