BEGIN:VCALENDAR
VERSION:2.0
PRODID:-//Breukvlakken - ECPv6.15.20//NONSGML v1.0//EN
CALSCALE:GREGORIAN
METHOD:PUBLISH
X-ORIGINAL-URL:https://breukvlakken.nl
X-WR-CALDESC:Evenementen voor Breukvlakken
REFRESH-INTERVAL;VALUE=DURATION:PT1H
X-Robots-Tag:noindex
X-PUBLISHED-TTL:PT1H
BEGIN:VTIMEZONE
TZID:Europe/Amsterdam
BEGIN:DAYLIGHT
TZOFFSETFROM:+0100
TZOFFSETTO:+0200
TZNAME:CEST
DTSTART:20230326T010000
END:DAYLIGHT
BEGIN:STANDARD
TZOFFSETFROM:+0200
TZOFFSETTO:+0100
TZNAME:CET
DTSTART:20231029T010000
END:STANDARD
BEGIN:DAYLIGHT
TZOFFSETFROM:+0100
TZOFFSETTO:+0200
TZNAME:CEST
DTSTART:20240331T010000
END:DAYLIGHT
BEGIN:STANDARD
TZOFFSETFROM:+0200
TZOFFSETTO:+0100
TZNAME:CET
DTSTART:20241027T010000
END:STANDARD
BEGIN:DAYLIGHT
TZOFFSETFROM:+0100
TZOFFSETTO:+0200
TZNAME:CEST
DTSTART:20250330T010000
END:DAYLIGHT
BEGIN:STANDARD
TZOFFSETFROM:+0200
TZOFFSETTO:+0100
TZNAME:CET
DTSTART:20251026T010000
END:STANDARD
END:VTIMEZONE
BEGIN:VEVENT
DTSTART;TZID=Europe/Amsterdam:20240118T200000
DTEND;TZID=Europe/Amsterdam:20240118T220000
DTSTAMP:20260423T051024
CREATED:20240104T194745Z
LAST-MODIFIED:20240105T121313Z
UID:8787-1705608000-1705615200@breukvlakken.nl
SUMMARY:Thema-avond: Uitsluiting en Schaamte
DESCRIPTION:De Stichting Breukvlakken organiseert in nauwe samenwerking met Stichting Perdu\, in vervolg op de series over ‘Angst’ en ‘Woede’ vier avonden rond het thema ‘Schaamte’ \nJe moest je schamen\nIeder mens kent schaamte: het is een normaal gevoel. Terwijl je het liefst zou willen verdwijnen\, word je jezelf juist intens gewaar\, je hebt te kampen met een overmaat aan prikkels\, met blozen\, met zweten\, met slecht afgegrensde woede\, kortom je voelt je overmand door gewaarwordingen. \nSchaamte als emotie wil je zo vlug mogelijk kwijt\, het gevoel doet pijn. Daarvoor gebruik je de klassieke afweermechanismen als ontkennen\, afwijzen\, verdringen\, verschuiven en het rationaliseren van schaamte\, het goed praten. \nSchaamte is sociale pijn. Wat er nog van je over is\, voelt zich onmachtig\, object van minachting\, verlamd\, passief geteisterd door pijnlijke autonome reacties. Wanneer je je schaamt heul je\, tegen beter weten in\, emotioneel met de vijand die jou waardeloos vindt. Er is geen ruimte meer voor begrip voor jezelf. \nHet zijn de ogen van de ander die je beschamen. De blik van de ander begint bij de moeder\, vader\, verzorger\, opa’s\, oma’s\, de gemeenschap: door hun blikken en woorden leer je hoe je je moet gedragen om erbij te horen. Wat je kan zeggen en waarover je moet zwijgen. \nSchaamte fungeert als olie in een samenleving. Het houdt mensen op hun plaats. Maar er kunnen kenteringen komen in wie de macht heeft wie te beschamen. # Me-too is een voorbeeld hoe machts-en beschamingsverhoudingen kunnen veranderen.\nDe schaamteloosheid kan een afweer zijn waardoor iemand de schaamte die anders ondragelijk is\, zelf niet voelt\, maar bij omstanders oproept\, “de plaatsvervangende schaamte.” \nHoog tijd om ons te verdiepen in Schaamte\nMet deskundigen\, de psychoanalyse en cultuur gaan we de ‘schaamte’ te lijf. De vier donderdagavonden vinden plaats in Perdu en zullen tegelijkertijd via een livestream te volgen zijn. Het programma duurt van 20.00 tot 22.00 uur. \nDe Stichting Breukvlakken stelt zich ten doel het Freudiaanse gedachtegoed levend te houden. De noties van conflicterende gevoelens\, bewust en onbewust\, de seksuele en agressieve driften\, de wensen en de verlangens\, zijn onmisbaar voor een zinnige duiding van maatschappelijke conflicten en onbehagen. \nStichting Perdu staat voor het stimuleren en onder de aandacht brengen van bijzondere literatuur\, en het onderzoeken van de relaties tussen die literatuur\, andere disciplines\, en culturele en maatschappelijke ontwikkelingen. (www.perdu.nl) \nEEN SERIE VAN VIER PROGRAMMA’S \nDownload de flyer met het overzicht van de volledige reeks over Schaamte. \n  \n1 – Donderdag 18 januari 2024  \nUitsluiting en Schaamte\n  \nWaar: \nLiterair Theater Perdu\, Kloveniersburgwal 86\, 1012 CZ Amsterdam \n \n  \nHoe laat: \nDe avonden beginnen om 20.00 uur en eindigen 22.00 uur\, de bar is open tot 23.00 uur  \nAlle avonden zijn per livestream te volgen waarbij u betaalt voor een link. \nDe link ontvangt u twee uur voor aanvang van het programma. \n  \nKaartverkoop voor aanwezigheid of livestream: \nStichting Perdu \nBESTEL KAARTEN\n  \nPrijzen:  \nNormaal € 13\,50  per avond – Passepartout voor 4 avonden € 48\,50 \nStudenten\, Stadspas en 65+ € 11\,00 per avond – Passepartout voor 4 avonden € 40\,- \nLivestream € 9\,00 per avond  –  Passepartout voor 4 avonden €32\,50 \n  \nPROGRAMMA DONDERDAG 18 JANUARI 2024 \nSprekers:\n  \nWouter Gomperts | psychoanalyticus\, leertherapeut en supervisor \nBeschaamd verzwegen? Over etnische verschillen in de psychoanalytische behandelkamer\nEtnische verschillen worden in een moderne samenleving als de onze veelal óf beschaamd verzwegen óf op een grove manier tot uiting gebracht. Sinds meer dan honderd jaar zoeken psychoanalytici naar manieren om met moeilijke gedachten\, gevoelens en impulsen op een andere\, betere manier om te gaan dan ze weg te werken of destructief uit te leven. Nu staan we voor de uitdaging in de therapiekamer naar manieren te zoeken om met een zekere vrijmoedigheid te praten over de beschamende gevoelens die etnische verschillen met zich mee kunnen brengen. Wat kunnen we dan tegenkomen? Wouter Gomperts gaat aan de hand van drie klinische vignetten (‘Aziza’\, ‘David’ en ‘Els’) na wat zich in en tussen de patiënt en therapeut voor kan doen als zij in etniciteit verschillen\, en hoe je daar als analyticus mee om kan gaan. \nDr. Wouter Gomperts (1951) werkte jarenlang bij de Universiteit van Amsterdam en het Nederlands Psychoanalytisch Instituut. Nu werkzaam als psychoanalyticus\, leertherapeut en supervisor in eigen praktijk. \n  \nMaggie Eybrechts |  psychoanalytica in opleiding \nSchaamte in de ogen kijken\nOver schaamte en schaamteloosheid in machtsverhoudingen bij etnische verschillen. Schaamte kan\, mits het dragelijk is\, ons in toom houden\, ons brengen tot meer menselijkheid en empathie. Schaamteloosheid kan daarentegen tot zonden\, gewetenloosheid en ongeremd gedrag aanzetten. De bruisende levendige overmoed staat zelfreflectie in de weg. Wat op zijn beurt weer juist diepe (onbewuste) schaamte kan voeden. Is het gewicht van schaamte om deze aan te gaan dan te groot? Maggie Eybrechts gaat\, met een psychoanalytische blik\, op zoek naar de destructieve kanten van schaamte en schaamteloosheid in contact tussen mensen op maatschappelijk niveau. \nMaggie Eybrechts studeerde zowel organisatiepsychologie\, klinische psychologie en deed een opleiding tot psychotherapeut. Ze heeft werkervaring opgedaan in de psychodiagnostiek en verslavingszorg. Momenteel is ze in opleiding tot psychoanalytica bij de Nederlandse Psychoanalytische Vereniging \n  \nModerator: Martine Groen \nmet bijdragen van Valentijn de Heer en Hava Güveli\nValentijn de Heer. (Foto: Merlijn D. Oomernik) \nValentijn de Heer (1986) promoveerde in groep 4 van de lagere school op een proefschrift over identiteitswanen bij zeedieren. Verder kwam hij niet. De liefde voor taal en bedenksels is echter altijd gebleven. Tegenwoordig schrijft hij columns en korte verhalen en publiceerde daarmee bij o.a. Literair Nederland\, Papieren Helden\, De Optimist en het Parool. Zijn debuutroman Beste mevrouw Eva verscheen op 5 september 2023 bij Uitgeverij Pluim en wordt zeer goed ontvangen in de landelijke pers. \n  \nHava Güveli. (Foto: Cihad Caner) \nHava Güveli (1980) schrijft proza en poëzie. Zij won in 2006 de El Hizjra Literatuurprijs. Haar poëzie is beeldend en melodieus. Haar Turks-Nederlandse achtergrond schemert door de inhoud. In 2019 studeerde ze af aan de Academie voor Schrijfdocenten\, Dactylus in Amersfoort. Les geven aan volwassenen en kinderen vindt ze leuk. Eind 2020 verscheen van haar de bundel ‘Alles wat ik vergeet is mooi meegenomen’\, uitgebracht door Uitgeverij Van Groningen. Momenteel werkt ze aan haar volgende bundel met als titel ‘Zachte vuisten’. \n  \nEEN SERIE VAN VIER PROGRAMMA’S \nDownload de flyer met het overzicht van de volledige reeks over Schaamte. \n  \n\nDe illustratie bovenaan deze pagina is gemaakt met Adobe Firefly AI.
URL:https://breukvlakken.nl/evenement/thema-avond-uitsluiting-en-schaamte/
LOCATION:Perdu\, Kloveniersburgwal 86\, Amsterdam\, 1012 CZ
CATEGORIES:Lezingen
ATTACH;FMTTYPE=image/jpeg:https://breukvlakken.nl/wp-content/uploads/2024/01/schaamte-groen.jpg
END:VEVENT
END:VCALENDAR