BEGIN:VCALENDAR
VERSION:2.0
PRODID:-//Breukvlakken - ECPv6.15.20//NONSGML v1.0//EN
CALSCALE:GREGORIAN
METHOD:PUBLISH
X-WR-CALNAME:Breukvlakken
X-ORIGINAL-URL:https://breukvlakken.nl
X-WR-CALDESC:Evenementen voor Breukvlakken
REFRESH-INTERVAL;VALUE=DURATION:PT1H
X-Robots-Tag:noindex
X-PUBLISHED-TTL:PT1H
BEGIN:VTIMEZONE
TZID:Europe/Amsterdam
BEGIN:DAYLIGHT
TZOFFSETFROM:+0100
TZOFFSETTO:+0200
TZNAME:CEST
DTSTART:20210328T010000
END:DAYLIGHT
BEGIN:STANDARD
TZOFFSETFROM:+0200
TZOFFSETTO:+0100
TZNAME:CET
DTSTART:20211031T010000
END:STANDARD
BEGIN:DAYLIGHT
TZOFFSETFROM:+0100
TZOFFSETTO:+0200
TZNAME:CEST
DTSTART:20220327T010000
END:DAYLIGHT
BEGIN:STANDARD
TZOFFSETFROM:+0200
TZOFFSETTO:+0100
TZNAME:CET
DTSTART:20221030T010000
END:STANDARD
BEGIN:DAYLIGHT
TZOFFSETFROM:+0100
TZOFFSETTO:+0200
TZNAME:CEST
DTSTART:20230326T010000
END:DAYLIGHT
BEGIN:STANDARD
TZOFFSETFROM:+0200
TZOFFSETTO:+0100
TZNAME:CET
DTSTART:20231029T010000
END:STANDARD
END:VTIMEZONE
BEGIN:VEVENT
DTSTART;TZID=Europe/Amsterdam:20221201T200000
DTEND;TZID=Europe/Amsterdam:20221201T220000
DTSTAMP:20260425T203559
CREATED:20221103T131115Z
LAST-MODIFIED:20221114T090603Z
UID:5494-1669924800-1669932000@breukvlakken.nl
SUMMARY:Thema-avond: Ingehouden Woede en Schaamte
DESCRIPTION:De Stichting Breukvlakken organiseert in nauwe samenwerking met Stichting Perdu\, vier  avonden rond het thema ‘woede’. Wat is de bron van de toenemende ‘woede’ die we om ons heen zien\, hoe wordt die ‘woede’ gereguleerd en gekanaliseerd. Hoe kunnen we ervoor zorgen dat we die ‘woede’ op een creatieve manier leren beheersen.  \nMet deskundigen\, de psychoanalyse en de poëzie gaan we de ‘woede’ te lijf. Vier avonden over woedende vrouwen\, boze boeren\, kwade geesten\, woeste mannen en gewetenloze ambtenaren.  \nElke avond opent met een speciaal voor de gelegenheid geschreven gedicht waarna een tweetal deskundigen het thema van de avond verder zullen toelichten. Aan het eind van de avond is er ruimte voor een gesprek tussen dichter en sprekers en vragen uit het publiek.  \nDe vier donderdagavonden vinden plaats in Perdu en zullen tegelijkertijd via een livestream te volgen zijn. Het programma duurt van 20.00 tot 22.00 uur. \nDe Stichting Breukvlakken stelt zich ten doel het Freudiaanse gedachtegoed levend te houden. De noties van conflicterende gevoelens\, bewust en onbewust\, de seksuele en agressieve driften\, de wensen en de verlangens\, zijn onmisbaar voor een zinnige duiding van maatschappelijke conflicten en onbehagen. De psychoanalyse biedt een begrippenapparaat en een zienswijze op de mens\, die aan wetenschappelijke relevantie niets heeft ingeboet.  \nStichting Perdu  staat voor het stimuleren en onder de aandacht brengen van bijzondere literatuur\, en het onderzoeken van de relaties tussen die literatuur\, andere disciplines\, en culturele en maatschappelijke ontwikkelingen. (www.perdu.nl) \n  \nEEN SERIE VAN VIER PROGRAMMA’S \nDownload de flyer met het overzicht van de volledige reeks over Woede. \n  \n1 – Donderdag 1 december 2022  \nIngehouden Woede en Schaamte \n  \nWaar: \nLiterair Theater Perdu\, Kloveniersburgwal 86\, 1012 CZ Amsterdam \n \n  \nHoe laat: \nDe avonden beginnen om 20.00 uur en eindigen 22.00 uur\, de bar is open tot 23.00 uur  \nAlle avonden zijn per livestream te volgen waarbij u betaalt voor een link. \nDe link ontvangt u twee uur voor aanvang van het programma. \n  \nKaartverkoop voor aanwezigheid of livestream: \nStichting Perdu \n  \nPrijzen:  \nNormaal € 12\,50  per avond  Passepartout voor 4 avonden €45\,00 \nStudenten\, Stadspas en 65+ € 10\,00 per avond   Passepartout voor 4 avonden €37\,50 \nLivestream € 8\,00 per avond     Passepartout voor 4 avonden €30\,00 \n  \nPROGRAMMA DONDERDAG 1 DECEMBER 2022 \nModerator: Koen Hilberdink \nSprekers:\nKaren Lachmising | dichter  \nNelleke Nicolai | psychiater en psychotherapeut \nVormt het seksistische en racistische patriarchaat nog steeds een belangrijke bron voor voortwoekerende woede. Hoe is het mogelijk dat het recht op abortus opnieuw ter discussie staat in Amerika. Zijn we er werkelijk op vooruitgegaan of zijn we alweer op de weg terug? Vrouwen zijn nog steeds slachtoffer van vele seksistische handelingen\, vrouwen worden vermoord door mannen en mannen doden elkaar. Vrouwen slikken tot ze stikken. Ingehouden woede uit zich in klachten van zowel fysieke als mentale aard of komt in onverwachte vormen op onverwachte momenten naar buiten.  \nDr. Nelleke Nicolai (1947)\, psychiater (niet-praktiserend) en psychotherapeut heeft sinds eind 1977 patiënten behandeld met een voorgeschiedenis van seksueel misbruik en mishandeling en daarover veel gepubliceerd. Zij zal een beeld schetsen van de enorme hoeveelheid ingehouden woede en schaamte die een belangrijk deel van ons samenleven bepaalt.   \nProf. Dr. Maaike Meijer | emeritus hoogleraar genderstudies \nMaaike Meijer onderzoekt verbeeldingen van mannelijkheid in bekende romans en films. Zij ziet mannenwoede daarin niet alleen getoond\, maar ook ontraadseld. Wat kan mannen brengen tot disproportioneel geweld? Is het doodsdrift\, dan wel een structureel onvermogen om verlies te nemen? Wat is het in de mannelijke socialisatie dat geweld zo moeilijk beheersbaar en aantrekkelijk maakt? Meijer leest een exemplarische roman en een film om de analyses te volgen die mannelijk auteurs zelf van dit probleem maken. Opmerkelijk genoeg wordt mannelijke agressie door hen vaak gepresenteerd als doodlopende weg. Mannen lijken ermee te willen kappen. En dat is goed nieuws. \nMaaike Meijer is emeritus hoogleraar genderstudies van de Universiteit van Maastricht. Zij is actief als schrijver\, onderzoeker en spreker. Naast tal van boeken en artikelen schreef zij biografieën van M. Vasalis (2011) en van F. Harmsen van Beek (2018). Haar deskundigheid ligt op het gebied van gender\, neerlandistiek\, poëzie en lied\, feminisme en cultuurgeschiedenis. Op stapel staat een boek over mannelijkheid in hedendaagse literatuur en film\, getiteld ‘Radeloze mannen’ dat bij uitgeverij Atlas Contact zal verschijnen. \n  \nEEN SERIE VAN VIER PROGRAMMA’S \nDownload de flyer met het overzicht van de volledige reeks over Woede. \n 
URL:https://breukvlakken.nl/evenement/ingehouden-woede-en-schaamte/
LOCATION:Perdu\, Kloveniersburgwal 86\, Amsterdam\, 1012 CZ
CATEGORIES:Lezingen
ATTACH;FMTTYPE=image/png:https://breukvlakken.nl/wp-content/uploads/2022/11/woede-green.png
END:VEVENT
END:VCALENDAR