BEGIN:VCALENDAR
VERSION:2.0
PRODID:-//Breukvlakken - ECPv6.15.20//NONSGML v1.0//EN
CALSCALE:GREGORIAN
METHOD:PUBLISH
X-WR-CALNAME:Breukvlakken
X-ORIGINAL-URL:https://breukvlakken.nl
X-WR-CALDESC:Evenementen voor Breukvlakken
REFRESH-INTERVAL;VALUE=DURATION:PT1H
X-Robots-Tag:noindex
X-PUBLISHED-TTL:PT1H
BEGIN:VTIMEZONE
TZID:Europe/Amsterdam
BEGIN:DAYLIGHT
TZOFFSETFROM:+0100
TZOFFSETTO:+0200
TZNAME:CEST
DTSTART:20220327T010000
END:DAYLIGHT
BEGIN:STANDARD
TZOFFSETFROM:+0200
TZOFFSETTO:+0100
TZNAME:CET
DTSTART:20221030T010000
END:STANDARD
BEGIN:DAYLIGHT
TZOFFSETFROM:+0100
TZOFFSETTO:+0200
TZNAME:CEST
DTSTART:20230326T010000
END:DAYLIGHT
BEGIN:STANDARD
TZOFFSETFROM:+0200
TZOFFSETTO:+0100
TZNAME:CET
DTSTART:20231029T010000
END:STANDARD
BEGIN:DAYLIGHT
TZOFFSETFROM:+0100
TZOFFSETTO:+0200
TZNAME:CEST
DTSTART:20240331T010000
END:DAYLIGHT
BEGIN:STANDARD
TZOFFSETFROM:+0200
TZOFFSETTO:+0100
TZNAME:CET
DTSTART:20241027T010000
END:STANDARD
END:VTIMEZONE
BEGIN:VEVENT
DTSTART;TZID=Europe/Amsterdam:20231214T193000
DTEND;TZID=Europe/Amsterdam:20231214T220000
DTSTAMP:20260423T080626
CREATED:20231020T151244Z
LAST-MODIFIED:20231123T153023Z
UID:6188-1702582200-1702591200@breukvlakken.nl
SUMMARY:Biografieën Project: Anil Ramdas\, onmogelijk kosmopoliet
DESCRIPTION:Breukvlakken Biografieën Project Perdu\nSeizoen 2023 – 2024\nBijeenkomst donderdag 14 december 2023: \nDe Stichting Breukvlakken\, i.s.m. de Stichting Psychoanalyse en Cultuur\, organiseert op 14 december 2023 de tweede avond in het nieuwe seizoen van de succesvolle reeks DE BIOGRAFIE IN PSYCHOANALYSE. \nIn Literair Theater Perdu in Amsterdam zal vanaf 20 uur Karin Amatmoekrim spreken over haar biografie Anil Ramdas\, in wat voor land leef ik eigenlijk\, onmogelijk kosmopoliet (Uitgeverij Prometheus\, 2023). \nSchrijfster Karin Amatmoekrim promoveerde op deze bijzondere biografie over de bijzondere Anil Ramdas\, veelgeroemd essayist en televisiemaker\, die als slot van een destructieve neergang in werk en als persoon\, een eind aan zijn leven maakte. Amatmoekrim: “Men kwam unaniem tot de conclusie dat zijn zelfgekozen dood voortkwam uit zijn ontworteling\, het verdriet van de immigrant. Ik meende zelf ook nog andere dingen te zien. Wat ik wilde was via de lens van zijn werk naar het veranderende Nederland kijken”. (Trouw\, 2023). Via de lens van zijn werk\, zo heeft de biografe het leven van Anil Ramdas beschreven. Ze wilde uitdrukkelijk niet psychologiseren. Een open doel voor psychoanalytica Martine Groen\, zou je zeggen. Of niet? Moderator is Maaike Meijer. \n  \nWaar:\nLiterair Theater Perdu\, Kloveniersburgwal 86\, 1012 CZ Amsterdam \n \nHoe laat:\nInloop vanaf 19.30\nPresentaties en nagesprek van 20:00 tot 22.00 \nKaartverkoop voor aanwezigheid of livestream:\nStichting Perdu \nEntree:\nLive € 12\,50 en Stream € 8\,00 \nDe biografie van Karin Amatmoekrim\, In wat voor land leef ik eigenlijk? Anil Ramdas\, onmogelijk kosmopoliet (Prometheus\, 2023) is deze avond te koop à € 39\,99. De biografe zal signeren. \nBestel Kaarten\n  \nBiografieën Project in Perdu\nWat:\nEen jaarlijks terugkerende serie avonden over biografieën\, de corebusiness van de psychoanalyse. \nWat kunt u verwachten:\nTijdens de avonden wordt een biografie gepresenteerd door de schrijver/ster\, een psychoanalytische voordracht over de biografie of de geportretteerde gehouden waarna biograaf en psychoanalyticus met elkaar in gesprek gaan. \nDownload de FLYER met het uitgebreide overzicht van de gehele serie hier. \n  \nSeizoen 2023 – 2024\n\n19 oktober 2023\nBiograaf Jutta Chorus over Alma’s dochters. 5 levens in de schaduw.\n14 december 2023\nBiograaf Karin Amatmoekrim over het leven en werk van Anil Ramdas\n15 februari 2024\nBiograaf Mieke Tillema over Ida Simons. Pianiste\, schrijfster\, overlevende.\n11 april 2024\nBiograaf Annette Portegies over Maurice Gilliams 1900-1982.\n\n  \n  \nDeze serie wordt georganiseerd door de Stichting Breukvlakken in samenwerking met de Stichting Psychoanalyse en Cultuur. \n \n  \n 
URL:https://breukvlakken.nl/evenement/biografieen-project-anil-ramdas-onmogelijk-kosmopoliet/
LOCATION:Perdu\, Kloveniersburgwal 86\, Amsterdam\, 1012 CZ
CATEGORIES:Lezingen
ATTACH;FMTTYPE=image/jpeg:https://breukvlakken.nl/wp-content/uploads/2022/09/Anil-Ramdas.jpg
ORGANIZER;CN="Stichting Breukvlakken":MAILTO:info@stichtingbreukvlakken.nl
END:VEVENT
END:VCALENDAR