BEGIN:VCALENDAR
VERSION:2.0
PRODID:-//Breukvlakken - ECPv6.15.20//NONSGML v1.0//EN
CALSCALE:GREGORIAN
METHOD:PUBLISH
X-ORIGINAL-URL:https://breukvlakken.nl
X-WR-CALDESC:Evenementen voor Breukvlakken
REFRESH-INTERVAL;VALUE=DURATION:PT1H
X-Robots-Tag:noindex
X-PUBLISHED-TTL:PT1H
BEGIN:VTIMEZONE
TZID:Europe/Amsterdam
BEGIN:DAYLIGHT
TZOFFSETFROM:+0100
TZOFFSETTO:+0200
TZNAME:CEST
DTSTART:20230326T010000
END:DAYLIGHT
BEGIN:STANDARD
TZOFFSETFROM:+0200
TZOFFSETTO:+0100
TZNAME:CET
DTSTART:20231029T010000
END:STANDARD
BEGIN:DAYLIGHT
TZOFFSETFROM:+0100
TZOFFSETTO:+0200
TZNAME:CEST
DTSTART:20240331T010000
END:DAYLIGHT
BEGIN:STANDARD
TZOFFSETFROM:+0200
TZOFFSETTO:+0100
TZNAME:CET
DTSTART:20241027T010000
END:STANDARD
BEGIN:DAYLIGHT
TZOFFSETFROM:+0100
TZOFFSETTO:+0200
TZNAME:CEST
DTSTART:20250330T010000
END:DAYLIGHT
BEGIN:STANDARD
TZOFFSETFROM:+0200
TZOFFSETTO:+0100
TZNAME:CET
DTSTART:20251026T010000
END:STANDARD
END:VTIMEZONE
BEGIN:VEVENT
DTSTART;TZID=Europe/Amsterdam:20240516T200000
DTEND;TZID=Europe/Amsterdam:20240516T220000
DTSTAMP:20260423T004423
CREATED:20240201T153225Z
LAST-MODIFIED:20240430T164957Z
UID:9406-1715889600-1715896800@breukvlakken.nl
SUMMARY:Thema-avond: Schaamte en seksueel geweld
DESCRIPTION:De Stichting Breukvlakken organiseert in nauwe samenwerking met Stichting Perdu\, in vervolg op de series over ‘Angst’ en ‘Woede’ vier avonden rond het thema ‘Schaamte’ \nJe moest je schamen\nIeder mens kent schaamte: het is een normaal gevoel. Terwijl je het liefst zou willen verdwijnen\, word je jezelf juist intens gewaar\, je hebt te kampen met een overmaat aan prikkels\, met blozen\, met zweten\, met slecht afgegrensde woede\, kortom je voelt je overmand door gewaarwordingen. \nSchaamte als emotie wil je zo vlug mogelijk kwijt\, het gevoel doet pijn. Daarvoor gebruik je de klassieke afweermechanismen als ontkennen\, afwijzen\, verdringen\, verschuiven en het rationaliseren van schaamte\, het goed praten. \nSchaamte is sociale pijn. Wat er nog van je over is\, voelt zich onmachtig\, object van minachting\, verlamd\, passief geteisterd door pijnlijke autonome reacties. Wanneer je je schaamt heul je\, tegen beter weten in\, emotioneel met de vijand die jou waardeloos vindt. Er is geen ruimte meer voor begrip voor jezelf. \nHet zijn de ogen van de ander die je beschamen. De blik van de ander begint bij de moeder\, vader\, verzorger\, opa’s\, oma’s\, de gemeenschap: door hun blikken en woorden leer je hoe je je moet gedragen om erbij te horen. Wat je kan zeggen en waarover je moet zwijgen. \nSchaamte fungeert als olie in een samenleving. Het houdt mensen op hun plaats. Maar er kunnen kenteringen komen in wie de macht heeft wie te beschamen. # Me-too is een voorbeeld hoe machts-en beschamingsverhoudingen kunnen veranderen.\nDe schaamteloosheid kan een afweer zijn waardoor iemand de schaamte die anders ondragelijk is\, zelf niet voelt\, maar bij omstanders oproept\, “de plaatsvervangende schaamte.” \nHoog tijd om ons te verdiepen in Schaamte\nMet deskundigen\, de psychoanalyse en cultuur gaan we de ‘schaamte’ te lijf. De vier donderdagavonden vinden plaats in Perdu en zullen tegelijkertijd via een livestream te volgen zijn. Het programma duurt van 20.00 tot 22.00 uur. \nDe Stichting Breukvlakken stelt zich ten doel het Freudiaanse gedachtegoed levend te houden. De noties van conflicterende gevoelens\, bewust en onbewust\, de seksuele en agressieve driften\, de wensen en de verlangens\, zijn onmisbaar voor een zinnige duiding van maatschappelijke conflicten en onbehagen. \nStichting Perdu staat voor het stimuleren en onder de aandacht brengen van bijzondere literatuur\, en het onderzoeken van de relaties tussen die literatuur\, andere disciplines\, en culturele en maatschappelijke ontwikkelingen. (www.perdu.nl) \nEEN SERIE VAN VIER PROGRAMMA’S \nDownload de flyer met het overzicht van de volledige reeks over Schaamte. \n  \n1 – Donderdag 16 mei 2024  \nSchaamte en seksueel geweld\n  \nWaar: \nLiterair Theater Perdu\, Kloveniersburgwal 86\, 1012 CZ Amsterdam \n \n  \nHoe laat: \nDe avonden beginnen om 20.00 uur en eindigen 22.00 uur\, de bar is open tot 23.00 uur  \nAlle avonden zijn per livestream te volgen waarbij u betaalt voor een link. \nDe link ontvangt u twee uur voor aanvang van het programma. \n  \nKaartverkoop voor aanwezigheid of livestream: \nStichting Perdu \nBESTEL KAARTEN\nOok kaartverkoop aan de zaal! \nPrijzen:  \nNormaal € 13\,50  per avond  \nStudenten\, Stadspas en 65+ € 11\,00 per avond \nLivestream € 9\,00 per avond   \n  \nPROGRAMMA DONDERDAG 16 MEI 2024 \nSprekers:\n  \nNelleke Nicolai |  psychiater\, psychotherapeut en psychoanalyticus \nNelleke Nicolai zal meerdere traumatische schaamtes benoemen zoals de schaamte na geweld\, de gevolgen van vernedering en de relatie met wraak en wrok\, woede en haat. De geïnternaliseerde schaamte en schaamte over deze schaamte speelt een grote rol in de behandeling na seksueel geweld en seksuele grensoverschrijdingen. Schaamte kan tot verschillende vormen van gevoelens en gedrag leiden\, zoals de blaam bij jezelf leggen\, schuldgevoelens\, maar ook walging van het eigen lichaam en zelfhaat. Dat leidt op haar beurt weer tot extreme vermijding of dissociatie van het lichaamsbeleven. Deze schaamte wordt permanent en doordrenkt het zelfgevoel. Het kan ook leiden tot familiale patronen\, waarbij de schaamte intergenerationeel wordt en ingebed raakt in stilzwijgen. De relatie tussen schaamte en zelfhaat wordt toegelicht aan de hand de van een aantal gevalsbeschrijvingen. \nNelleke Nicolai was psychiater\, psychotherapeut\, en psychoanalyticus. Ze was supervisor en docent aan meerdere opleidingen vooral over trauma en hechting.  Ze schreef onder anderen Empathie (2016) \, Emotieregulatie\, de kunst van het evenwicht (2016) en In levenden lijve: het lichaam in de psychotherapie(2020). \n  \nMartine Groen | klinisch psycholoog / psychotherapeut \n\nHoe zien de verschillen in schaamtepatronen eruit? Zijn in schaamte gedreven families heel verschillend of zijn er meer overeenkomsten na seksueel geweld? Schamen vrouwen zich meer dan mannen na geweld? Deze vragen zal Martine Groen samen met Nelleke Nicolai verder verdiepen en verkennen. \n\nDrs. Martine Groen is klinisch psycholoog / psychotherapeut\, niet praktiserend. Zij heeft zich gespecialiseerd in gerumineerde familiesystemen. Zij werkte in de vrouwenhulpverlening en was tien jaar verbonden aan de politie en brandweer. Ook werkte zij tien jaar in voormalig Joegoslavië. Haar laatste publicatie Intieme Oorlog schreef ze samen met Justine van Lawick en kent inmiddels de achtste druk. \n  \nModerator: Koen Hilberdink \nmet bijdragen van Liesbeth Vreeburg en Manon Uphoff\nLiesbeth Vreeburg is harpiste\, componiste\, muziektheatermaker en performer\, actief in verschillende muzikale werelden. Ze combineert het ontwikkelen van haar eigen werk met het spelen van 18e\, 19e en 20e eeuwse kamermuziek en het uitvoeren van gloednieuwe composities.  Ze werkt graag op het snijvlak van disciplines\, waar beeld\, geluid en woord in elkaar overlopen. \n\nManon Uphoff (1962) is schrijver\, scenarist en beeldend kunstenaar. Begeerte\, haar debuut\, werd genomineerd voor de AKO Literatuurprijs\, de Anton Wachterprijs en de ECI-prijs. De roman Gemis\, genomineerd voor de Libris Literatuur Prijs\, werd bekroond met de Rabobank Lenteprijs voor Literatuur. Haar recent verschenen roman Vallen is als vliegen werd met grote lof overladen door recensenten\, boekverkopers\, schrijvers en lezers \n\n  \nEEN SERIE VAN VIER PROGRAMMA’S \nDownload de flyer met het overzicht van de volledige reeks over Schaamte. \n  \n\nDe illustratie bovenaan deze pagina is gemaakt met Adobe Firefly AI.
URL:https://breukvlakken.nl/evenement/thema-avond-schaamte-en-seksueel-geweld/
LOCATION:Perdu\, Kloveniersburgwal 86\, Amsterdam\, 1012 CZ
CATEGORIES:Lezingen
ATTACH;FMTTYPE=image/jpeg:https://breukvlakken.nl/wp-content/uploads/2024/02/schaamte-violet.jpg
END:VEVENT
END:VCALENDAR