BEGIN:VCALENDAR
VERSION:2.0
PRODID:-//Breukvlakken - ECPv6.15.20//NONSGML v1.0//EN
CALSCALE:GREGORIAN
METHOD:PUBLISH
X-ORIGINAL-URL:https://breukvlakken.nl
X-WR-CALDESC:Evenementen voor Breukvlakken
REFRESH-INTERVAL;VALUE=DURATION:PT1H
X-Robots-Tag:noindex
X-PUBLISHED-TTL:PT1H
BEGIN:VTIMEZONE
TZID:Europe/Amsterdam
BEGIN:DAYLIGHT
TZOFFSETFROM:+0100
TZOFFSETTO:+0200
TZNAME:CEST
DTSTART:20160327T010000
END:DAYLIGHT
BEGIN:STANDARD
TZOFFSETFROM:+0200
TZOFFSETTO:+0100
TZNAME:CET
DTSTART:20161030T010000
END:STANDARD
BEGIN:DAYLIGHT
TZOFFSETFROM:+0100
TZOFFSETTO:+0200
TZNAME:CEST
DTSTART:20170326T010000
END:DAYLIGHT
BEGIN:STANDARD
TZOFFSETFROM:+0200
TZOFFSETTO:+0100
TZNAME:CET
DTSTART:20171029T010000
END:STANDARD
BEGIN:DAYLIGHT
TZOFFSETFROM:+0100
TZOFFSETTO:+0200
TZNAME:CEST
DTSTART:20180325T010000
END:DAYLIGHT
BEGIN:STANDARD
TZOFFSETFROM:+0200
TZOFFSETTO:+0100
TZNAME:CET
DTSTART:20181028T010000
END:STANDARD
END:VTIMEZONE
BEGIN:VEVENT
DTSTART;TZID=Europe/Amsterdam:20171124T160000
DTEND;TZID=Europe/Amsterdam:20171124T170000
DTSTAMP:20260425T215359
CREATED:20190701T110405Z
LAST-MODIFIED:20190701T114839Z
UID:2230-1511539200-1511542800@breukvlakken.nl
SUMMARY:Uitreiking Freud Medaille 2017
DESCRIPTION:Uitreiking Freud Medaille aan António Damásio door Jan Swinkels (emeritus hoogleraar psychiatrie\, Amsterdam Medisch Centrum\, Universiteit van Amsterdam / Voorzitter Stichting Breukvlakken) en Don Linszen (Juryvoorzitter). \nDe Internationale Freud Medal 2017 is toegekend aan Professor António Damásio. Behalve de medaille ontvangt de laureaat 5000 euro. \nNeurowetenschappelijke pionier António Damásio krijgt deze prijs voor zijn orginele en baanbrekende bijdragen aan het onderzoek naar de neurobiologie van het brein\, in het bijzonder het neurale substraat van emoties en de centrale rol die gevoelens spelen in het bewustzijn. \nDe uitreiking vindt plaats in het Compagnietheater in Amsterdam tijdens het symposium Freud en de Neurowetenschap op 24 november 2017. \nDe 2017 jury bestond uit professor Don Linszen (voorzitter)\, professor Mark Solms\, professor Jan Swinkels\, professor René Kahn en dr. Rien Van. \nLees het juryrapport hier. \nLees hier over de geschiedenis van de Freud Medal \nZie ook een nieuwsbericht over de uitreiking van deze prijs \n  \nDe Freud Medaille wordt mogelijk gemaakt door Stichting Breukvlakken\, KNAW\, NVPP en NPaV. \n  \n \n  \n    \n  \n  \n 
URL:https://breukvlakken.nl/evenement/uitreiking-freud-medaille-2017/
LOCATION:Compagnietheater\, Kloveniersburgwal 50\, Amsterdam\, 1012 CX
CATEGORIES:Prijsuitreikingen
ATTACH;FMTTYPE=image/jpeg:https://breukvlakken.nl/wp-content/uploads/2019/07/freudpenning-jan-stoker.jpg
END:VEVENT
END:VCALENDAR